BEGIN:VCALENDAR
VERSION:2.0
PRODID:icalendar-ruby
CALSCALE:GREGORIAN
METHOD:PUBLISH
BEGIN:VEVENT
DTSTAMP:20260421T030900Z
UID:7-1009019@fbcowosso.org
DTSTART:20260927T140000Z
DTEND:20260927T150000Z
CLASS:PUBLIC
CREATED:20260420T202224
DESCRIPTION:You are Invited to join us each Sunday at 10am OR you can watch
  the weekly message here by simply clicking on the Sermons button!
LAST-MODIFIED:20260420T202224
LOCATION:114 W Mason St. Owosso\, MI  48867
SUMMARY:Sunday Worship
URL;VALUE=URI:https://fbcowosso.org/events/sunday-worship--7/2026-09-27
END:VEVENT
END:VCALENDAR
