BEGIN:VCALENDAR
VERSION:2.0
PRODID:icalendar-ruby
CALSCALE:GREGORIAN
METHOD:PUBLISH
BEGIN:VEVENT
DTSTAMP:20260423T083305Z
UID:7-1017406@fbcowosso.org
DTSTART:20260920T140000Z
DTEND:20260920T150000Z
CLASS:PUBLIC
CREATED:20260422T220954
DESCRIPTION:You are Invited to join us each Sunday at 10am OR you can watch
  the weekly message here by simply clicking on the Sermons button!
LAST-MODIFIED:20260422T220954
LOCATION:114 W Mason St. Owosso\, MI  48867
SUMMARY:Sunday Worship
URL;VALUE=URI:https://fbcowosso.org/events/sunday-worship--7/2026-09-20
END:VEVENT
END:VCALENDAR
