BEGIN:VCALENDAR
VERSION:2.0
PRODID:icalendar-ruby
CALSCALE:GREGORIAN
METHOD:PUBLISH
BEGIN:VEVENT
DTSTAMP:20260421T003808Z
UID:6-1008804@fbcowosso.org
DTSTART:20261025T140000Z
DTEND:20261025T160000Z
CLASS:PUBLIC
CREATED:20260420T202224
DESCRIPTION:You are Invited to join us every Sunday at 10am OR you can watc
 h the weekly message via the link posted on our FB (First Baptist Church o
 f Owosso)!
LAST-MODIFIED:20260420T202224
LOCATION:114 W Mason St. Owosso\, MI  48867
SUMMARY:Sunday Worship
URL;VALUE=URI:https://fbcowosso.org/events/sunday-worship--6/2026-10-25
END:VEVENT
END:VCALENDAR
