BEGIN:VCALENDAR
VERSION:2.0
PRODID:icalendar-ruby
CALSCALE:GREGORIAN
METHOD:PUBLISH
BEGIN:VEVENT
DTSTAMP:20260420T140708Z
UID:6-1006002@fbcowosso.org
DTSTART:20260913T140000Z
DTEND:20260913T160000Z
CLASS:PUBLIC
CREATED:20260420T100257
DESCRIPTION:You are Invited to join us every Sunday at 10am OR you can watc
 h the weekly message via the link posted on our FB (First Baptist Church o
 f Owosso)!
LAST-MODIFIED:20260420T100257
LOCATION:114 W Mason St. Owosso\, MI  48867
SUMMARY:Sunday Worship
URL;VALUE=URI:https://fbcowosso.org/events/sunday-worship--6/2026-09-13
END:VEVENT
END:VCALENDAR
