BEGIN:VCALENDAR
VERSION:2.0
PRODID:icalendar-ruby
CALSCALE:GREGORIAN
METHOD:PUBLISH
BEGIN:VEVENT
DTSTAMP:20260420T052038Z
UID:6-1003900@fbcowosso.org
DTSTART:20260809T140000Z
DTEND:20260809T160000Z
CLASS:PUBLIC
CREATED:20260419T225253
DESCRIPTION:You are Invited to join us every Sunday at 10am OR you can watc
 h the weekly message via the link posted on our FB (First Baptist Church o
 f Owosso)!
LAST-MODIFIED:20260419T225253
LOCATION:114 W Mason St. Owosso\, MI  48867
SUMMARY:Sunday Worship
URL;VALUE=URI:https://fbcowosso.org/events/sunday-worship--6/2026-08-09
END:VEVENT
END:VCALENDAR
